BEGIN:VCALENDAR
VERSION:2.0
PRODID:-//eventon.com NONSGML v1.0//EN
CALSCALE:GREGORIAN
METHOD:PUBLISH
BEGIN:VEVENT
UID:69e4cfe70dd99
DTSTAMP:20260419T125151Z
DTSTART:20231206T053000Z
DTEND:20231206T070000Z
LOCATION:
SUMMARY:Edu-dance concert 2
DESCRIPTION:Edu-dance concert 2\nhttps://duncraigps.wa.edu.au/events/edu-da
 nce-concert-2/
URL:https://duncraigps.wa.edu.au/events/edu-dance-concert-2/
END:VEVENT
END:VCALENDAR